BEGIN:VCALENDAR
VERSION:2.0
PRODID:icalendar-ruby
CALSCALE:GREGORIAN
METHOD:PUBLISH
BEGIN:VEVENT
DTSTAMP:20260422T232254Z
UID:7-557866@northviewumcwv.org
DTSTART:20261015T180000Z
DTEND:20261015T200000Z
CLASS:PUBLIC
CREATED:20260422T171445
DESCRIPTION:Every Thursday staple foods are available for pickup at our foo
 d pantry. Food Pickup is available once a month per household. We are oper
 ating indoors\, so come in upon arrival. We require photo ID and proof of 
 address to process orders.\n\nWe also have the “Yes it’s Free” Cloth
 ing Closet which provides clothing of all sizes at no cost.
LAST-MODIFIED:20260422T171445
LOCATION:North View UMC
SUMMARY:Food Pantry
URL;VALUE=URI:https://www.northviewumcwv.org/events/food-pantry/2026-10-15
ATTACH;FILENAME=Food_Pantry_Trans.png;FMTTYPE=image/png:https://dq5pwpg1q8r
 u0.cloudfront.net/2025/02/06/15/19/37/3ed67ed4-1c7f-4134-a635-117936620a0c
 /Food_Pantry_Trans.png
END:VEVENT
END:VCALENDAR
